BEGIN:VCALENDAR
VERSION:2.0
PRODID:spatie/icalendar-generator
DESCRIPTION:Events from North Georgia Advocate
X-WR-CALDESC:Events from North Georgia Advocate
REFRESH-INTERVAL;VALUE=DURATION:PT1440M
X-PUBLISHED-TTL:PT1440M
BEGIN:VTIMEZONE
TZID:America/New_York
BEGIN:DAYLIGHT
DTSTART:20250309T020000Z
TZOFFSETFROM:-0500
TZOFFSETTO:-0400
END:DAYLIGHT
BEGIN:STANDARD
DTSTART:20251102T020000Z
TZOFFSETFROM:-0400
TZOFFSETTO:-0500
END:STANDARD
BEGIN:DAYLIGHT
DTSTART:20260308T020000Z
TZOFFSETFROM:-0500
TZOFFSETTO:-0400
END:DAYLIGHT
END:VTIMEZONE
BEGIN:VTIMEZONE
TZID:UTC
BEGIN:STANDARD
DTSTART:20250724T210140Z
TZOFFSETFROM:+0000
TZOFFSETTO:+0000
END:STANDARD
END:VTIMEZONE
BEGIN:VEVENT
UID:46-30
DTSTAMP:20260420T210140Z
SUMMARY:Hall County BOC Work Session
LOCATION:Hall County Government Center 2875 Browns Bridge Road 2nd Floor Ga
 inesville GA 30504
ORGANIZER;CN=NGAdvocate:MAILTO:dirty@handicappershideaway.com
DTSTART;TZID=America/New_York:20250922T150000
DTEND;TZID=America/New_York:20250922T170000
X-ALT-DESC;FMTTYPE=TEXT/HTML:Hall County Board of Education Work Session
CATEGORIES:Board of Commissioners
URL;VALUE=URI:https://ngadvocate.org/mc-events/hall-county-boc-work-session
 -13/
METHOD:PUBLISH
END:VEVENT
END:VCALENDAR