BEGIN:VCALENDAR
VERSION:2.0
PRODID:spatie/icalendar-generator
DESCRIPTION:Events from North Georgia Advocate
X-WR-CALDESC:Events from North Georgia Advocate
REFRESH-INTERVAL;VALUE=DURATION:PT1440M
X-PUBLISHED-TTL:PT1440M
BEGIN:VTIMEZONE
TZID:America/New_York
BEGIN:STANDARD
DTSTART:20241103T020000Z
TZOFFSETFROM:-0400
TZOFFSETTO:-0500
END:STANDARD
BEGIN:DAYLIGHT
DTSTART:20250309T020000Z
TZOFFSETFROM:-0500
TZOFFSETTO:-0400
END:DAYLIGHT
BEGIN:STANDARD
DTSTART:20251102T020000Z
TZOFFSETFROM:-0400
TZOFFSETTO:-0500
END:STANDARD
END:VTIMEZONE
BEGIN:VTIMEZONE
TZID:UTC
BEGIN:STANDARD
DTSTART:20250725T005757Z
TZOFFSETFROM:+0000
TZOFFSETTO:+0000
END:STANDARD
END:VTIMEZONE
BEGIN:VEVENT
UID:32-58
DTSTAMP:20260421T005757Z
SUMMARY:Hall County BOE Regular Meeting
LOCATION:Hall County Board of Education Main Office 711 Green Street  Gaine
 sville Ga 30501
ORGANIZER;CN=Susan Aycock Smith:MAILTO:crosssums@gmail.com
DTSTART;TZID=America/New_York:20250630T170000
DTEND;TZID=America/New_York:20250630T180000
X-ALT-DESC;FMTTYPE=TEXT/HTML:
CATEGORIES:Board of Education
URL;VALUE=URI:https://ngadvocate.org/mc-events/hall-county-boe-regular-meet
 ing-4/
METHOD:PUBLISH
END:VEVENT
END:VCALENDAR