BEGIN:VCALENDAR
VERSION:2.0
PRODID:spatie/icalendar-generator
DESCRIPTION:Events from North Georgia Advocate
X-WR-CALDESC:Events from North Georgia Advocate
REFRESH-INTERVAL;VALUE=DURATION:PT1440M
X-PUBLISHED-TTL:PT1440M
BEGIN:VTIMEZONE
TZID:America/New_York
BEGIN:STANDARD
DTSTART:20241103T020000Z
TZOFFSETFROM:-0400
TZOFFSETTO:-0500
END:STANDARD
BEGIN:DAYLIGHT
DTSTART:20250309T020000Z
TZOFFSETFROM:-0500
TZOFFSETTO:-0400
END:DAYLIGHT
END:VTIMEZONE
BEGIN:VTIMEZONE
TZID:UTC
BEGIN:STANDARD
DTSTART:20250724T191246Z
TZOFFSETFROM:+0000
TZOFFSETTO:+0000
END:STANDARD
END:VTIMEZONE
BEGIN:VEVENT
UID:3-3
DTSTAMP:20260420T191246Z
SUMMARY:Hall County BOE Meeting
LOCATION:Hall County School District Central Office 711 Green Street  Gaine
 sville GA 30501
ORGANIZER;CN=NGAdvocate:MAILTO:dirty@handicappershideaway.com
DTSTART;TZID=America/New_York:20250127T170000
DTEND;TZID=America/New_York:20250127T190000
X-ALT-DESC;FMTTYPE=TEXT/HTML:Hall County Board of Education regular meeting
 . Public is allowed to speak for 3 minutes each.
CATEGORIES:Board of Education
URL;VALUE=URI:https://ngadvocate.org/mc-events/hall-county-boe-meeting/
METHOD:PUBLISH
END:VEVENT
END:VCALENDAR