BEGIN:VCALENDAR
VERSION:2.0
PRODID:spatie/icalendar-generator
DESCRIPTION:Events from North Georgia Advocate
X-WR-CALDESC:Events from North Georgia Advocate
REFRESH-INTERVAL;VALUE=DURATION:PT1440M
X-PUBLISHED-TTL:PT1440M
BEGIN:VTIMEZONE
TZID:America/New_York
BEGIN:STANDARD
DTSTART:20261101T020000Z
TZOFFSETFROM:-0400
TZOFFSETTO:-0500
END:STANDARD
BEGIN:DAYLIGHT
DTSTART:20270314T020000Z
TZOFFSETFROM:-0500
TZOFFSETTO:-0400
END:DAYLIGHT
END:VTIMEZONE
BEGIN:VTIMEZONE
TZID:UTC
BEGIN:STANDARD
DTSTART:20250724T225606Z
TZOFFSETFROM:+0000
TZOFFSETTO:+0000
END:STANDARD
END:VTIMEZONE
BEGIN:VEVENT
UID:294-71
DTSTAMP:20260420T225606Z
SUMMARY:Hall County BOE Combined Session
LOCATION:Hall County School District Central Office 711 Green Street  Gaine
 sville GA 30501
ORGANIZER;CN=Susan Aycock Smith:MAILTO:crosssums@gmail.com
DTSTART;TZID=America/New_York:20261207T170000
DTEND;TZID=America/New_York:20261207T180000
X-ALT-DESC;FMTTYPE=TEXT/HTML:Hall County Board of Education Combined Work S
 ession and Regular Meeting
CATEGORIES:Board of Education
URL;VALUE=URI:https://ngadvocate.org/mc-events/hall-county-boe-combined-ses
 sion/
METHOD:PUBLISH
END:VEVENT
END:VCALENDAR