BEGIN:VCALENDAR
VERSION:2.0
PRODID:spatie/icalendar-generator
DESCRIPTION:Events from North Georgia Advocate
X-WR-CALDESC:Events from North Georgia Advocate
REFRESH-INTERVAL;VALUE=DURATION:PT1440M
X-PUBLISHED-TTL:PT1440M
BEGIN:VTIMEZONE
TZID:America/New_York
BEGIN:STANDARD
DTSTART:20251102T020000Z
TZOFFSETFROM:-0400
TZOFFSETTO:-0500
END:STANDARD
BEGIN:DAYLIGHT
DTSTART:20260308T020000Z
TZOFFSETFROM:-0500
TZOFFSETTO:-0400
END:DAYLIGHT
BEGIN:STANDARD
DTSTART:20261101T020000Z
TZOFFSETFROM:-0400
TZOFFSETTO:-0500
END:STANDARD
END:VTIMEZONE
BEGIN:VTIMEZONE
TZID:UTC
BEGIN:STANDARD
DTSTART:20250725T005729Z
TZOFFSETFROM:+0000
TZOFFSETTO:+0000
END:STANDARD
END:VTIMEZONE
BEGIN:VEVENT
UID:287-69
DTSTAMP:20260421T005729Z
SUMMARY:Hall County BOE Work Session
LOCATION:Hall County School District Central Office 711 Green Street  Gaine
 sville GA 30501
ORGANIZER;CN=Susan Aycock Smith:MAILTO:crosssums@gmail.com
DTSTART;TZID=America/New_York:20260608T170000
DTEND;TZID=America/New_York:20260608T180000
X-ALT-DESC;FMTTYPE=TEXT/HTML:Hall County Board of Education Work Session
CATEGORIES:Board of Education
URL;VALUE=URI:https://ngadvocate.org/mc-events/hall-county-boe-work-session
 -6/
METHOD:PUBLISH
END:VEVENT
END:VCALENDAR