BEGIN:VCALENDAR
VERSION:2.0
PRODID:spatie/icalendar-generator
DESCRIPTION:Events from North Georgia Advocate
X-WR-CALDESC:Events from North Georgia Advocate
REFRESH-INTERVAL;VALUE=DURATION:PT1440M
X-PUBLISHED-TTL:PT1440M
BEGIN:VTIMEZONE
TZID:America/New_York
BEGIN:STANDARD
DTSTART:20241103T020000Z
TZOFFSETFROM:-0400
TZOFFSETTO:-0500
END:STANDARD
BEGIN:DAYLIGHT
DTSTART:20250309T020000Z
TZOFFSETFROM:-0500
TZOFFSETTO:-0400
END:DAYLIGHT
BEGIN:STANDARD
DTSTART:20251102T020000Z
TZOFFSETFROM:-0400
TZOFFSETTO:-0500
END:STANDARD
END:VTIMEZONE
BEGIN:VTIMEZONE
TZID:UTC
BEGIN:STANDARD
DTSTART:20250724T173404Z
TZOFFSETFROM:+0000
TZOFFSETTO:+0000
END:STANDARD
END:VTIMEZONE
BEGIN:VEVENT
UID:20-12
DTSTAMP:20260420T173404Z
SUMMARY:Hall County BOE Work Session* Change of Location
LOCATION:Lanier Technical College 2535 Lanier Tech Drive  Gainesville GA 30
 507
ORGANIZER;CN=Susan Aycock Smith:MAILTO:crosssums@gmail.com
DTSTART;TZID=America/New_York:20250512T170000
DTEND;TZID=America/New_York:20250512T180000
X-ALT-DESC;FMTTYPE=TEXT/HTML:Night of Honor - Lanier Technical College
CATEGORIES:Board of Education
URL;VALUE=URI:https://ngadvocate.org/mc-events/hall-county-boe-work-session
 -change-of-location/
METHOD:PUBLISH
END:VEVENT
END:VCALENDAR