BEGIN:VCALENDAR
VERSION:2.0
PRODID:spatie/icalendar-generator
DESCRIPTION:Events from North Georgia Advocate
X-WR-CALDESC:Events from North Georgia Advocate
REFRESH-INTERVAL;VALUE=DURATION:PT1440M
X-PUBLISHED-TTL:PT1440M
BEGIN:VTIMEZONE
TZID:America/New_York
BEGIN:STANDARD
DTSTART:20241103T020000Z
TZOFFSETFROM:-0400
TZOFFSETTO:-0500
END:STANDARD
BEGIN:DAYLIGHT
DTSTART:20250309T020000Z
TZOFFSETFROM:-0500
TZOFFSETTO:-0400
END:DAYLIGHT
END:VTIMEZONE
BEGIN:VTIMEZONE
TZID:UTC
BEGIN:STANDARD
DTSTART:20250725T012429Z
TZOFFSETFROM:+0000
TZOFFSETTO:+0000
END:STANDARD
END:VTIMEZONE
BEGIN:VEVENT
UID:99-35
DTSTAMP:20260421T012429Z
SUMMARY:Hall County Planning Commission Meeting
LOCATION:
ORGANIZER;CN=Susan Aycock Smith:MAILTO:crosssums@gmail.com
RRULE:FREQ=MONTHLY;BYDAY=3MO;UNTIL=20260120T000000Z
DTSTART;TZID=America/New_York:20250217T171500
DTEND;TZID=America/New_York:20250217T181500
X-ALT-DESC;FMTTYPE=TEXT/HTML:
CATEGORIES:Planning Commission
URL;VALUE=URI:https://ngadvocate.org/mc-events/hall-county-planning-commiss
 ion-meeting-2/?mc_id=99
METHOD:PUBLISH
END:VEVENT
END:VCALENDAR