BEGIN:VCALENDAR
VERSION:2.0
PRODID:spatie/icalendar-generator
DESCRIPTION:Events from North Georgia Advocate
X-WR-CALDESC:Events from North Georgia Advocate
REFRESH-INTERVAL;VALUE=DURATION:PT1440M
X-PUBLISHED-TTL:PT1440M
BEGIN:VTIMEZONE
TZID:America/New_York
BEGIN:STANDARD
DTSTART:20241103T020000Z
TZOFFSETFROM:-0400
TZOFFSETTO:-0500
END:STANDARD
BEGIN:DAYLIGHT
DTSTART:20250309T020000Z
TZOFFSETFROM:-0500
TZOFFSETTO:-0400
END:DAYLIGHT
END:VTIMEZONE
BEGIN:VTIMEZONE
TZID:UTC
BEGIN:STANDARD
DTSTART:20250724T230403Z
TZOFFSETFROM:+0000
TZOFFSETTO:+0000
END:STANDARD
END:VTIMEZONE
BEGIN:VEVENT
UID:2-2
DTSTAMP:20260420T230403Z
SUMMARY:Hall County BOE Work Session
LOCATION:Hall County Board of Education Main Office 711 Green Street  Gaine
 sville Ga 30501
ORGANIZER;CN=NGAdvocate:MAILTO:dirty@handicappershideaway.com
DTSTART;TZID=America/New_York:20250113T170000
DTEND;TZID=America/New_York:20250113T190000
X-ALT-DESC;FMTTYPE=TEXT/HTML:[caption id=\"attachment_335\" align=\"alignce
 nter\" width=\"923\"] Hall County BOE Work Session Agenda as of January 9t
 h\, 2025[/caption] 5pm Hall BOE
CATEGORIES:Board of Education
URL;VALUE=URI:https://ngadvocate.org/mc-events/hall-county-boe-work-session
 /
METHOD:PUBLISH
END:VEVENT
END:VCALENDAR